BEGIN:VCALENDAR
VERSION:2.0
PRODID:-//Orange City Tulip Festival - ECPv6.0.8//NONSGML v1.0//EN
CALSCALE:GREGORIAN
METHOD:PUBLISH
X-WR-CALNAME:Orange City Tulip Festival
X-ORIGINAL-URL:https://www.archive.octulipfestival.com
X-WR-CALDESC:Events for Orange City Tulip Festival
REFRESH-INTERVAL;VALUE=DURATION:PT1H
X-Robots-Tag:noindex
X-PUBLISHED-TTL:PT1H
BEGIN:VTIMEZONE
TZID:America/Chicago
BEGIN:DAYLIGHT
TZOFFSETFROM:-0600
TZOFFSETTO:-0500
TZNAME:CDT
DTSTART:20240310T080000
END:DAYLIGHT
BEGIN:STANDARD
TZOFFSETFROM:-0500
TZOFFSETTO:-0600
TZNAME:CST
DTSTART:20241103T070000
END:STANDARD
END:VTIMEZONE
BEGIN:VEVENT
DTSTART;TZID=America/Chicago:20241125T183000
DTEND;TZID=America/Chicago:20241125T203000
DTSTAMP:20260421T093128
CREATED:20241018T123825Z
LAST-MODIFIED:20241029T154412Z
UID:31671-1732559400-1732566600@www.archive.octulipfestival.com
SUMMARY:2025 Tulip Queen Crowning
DESCRIPTION:Photo Courtesy of: Lauren McDonald Film and Photo\nThe 2025 Tulip Queen Crowning will be held Monday\, Nov. 25 at the Prairie Winds Event Center. Doors will open at 6:30 p.m. and the event will begin at 7:00 p.m. Admission is $5 for all attendees\, regardless of age or whether they choose to vote. \nTickets for the in-person event are now available at the door.\n \nRegister to watch the Live Stream & Vote:\n \n  \n  \n  \n  \nCandidates for the 2025 Tulip Queen include Ava De Jong\, daughter of Daron and Emily De Jong; Faith Elgersma\, daughter of Phil and Jen Elgersma; Mackenzie Huizenga\, daughter of Aaron and Kim Huizenga; Bridget Plender\, daughter of Blake and Marcia Plender; and Jaelye Woudstra\, daughter of Brandon and Kyndara Woudstra. \nTulip Queen candidates will give presentations on Orange City and will be interviewed by both the judges and emcees of the event. Attendees will have the opportunity to cast their vote for the 2025 Tulip Queen during the pageant. The 2025 Tulip Queen will be crowned as a conclusion to the event.
URL:https://www.archive.octulipfestival.com/event/2025-tulip-queen-crowning/
LOCATION:Prairie Winds Event Center\, 908 8th Street SE\, Orange City\, 51041\, United States
ATTACH;FMTTYPE=image/jpeg:https://www.archive.octulipfestival.com/wp-content/uploads/2024/10/firstmeeting-35-2-scaled.jpg
END:VEVENT
END:VCALENDAR