BEGIN:VCALENDAR
VERSION:2.0
PRODID:-//Orange City Tulip Festival - ECPv6.0.8//NONSGML v1.0//EN
CALSCALE:GREGORIAN
METHOD:PUBLISH
X-WR-CALNAME:Orange City Tulip Festival
X-ORIGINAL-URL:https://www.archive.octulipfestival.com
X-WR-CALDESC:Events for Orange City Tulip Festival
REFRESH-INTERVAL;VALUE=DURATION:PT1H
X-Robots-Tag:noindex
X-PUBLISHED-TTL:PT1H
BEGIN:VTIMEZONE
TZID:America/Chicago
BEGIN:DAYLIGHT
TZOFFSETFROM:-0600
TZOFFSETTO:-0500
TZNAME:CDT
DTSTART:20240310T080000
END:DAYLIGHT
BEGIN:STANDARD
TZOFFSETFROM:-0500
TZOFFSETTO:-0600
TZNAME:CST
DTSTART:20241103T070000
END:STANDARD
END:VTIMEZONE
BEGIN:VEVENT
DTSTART;TZID=America/Chicago:20241009T120000
DTEND;TZID=America/Chicago:20241009T190000
DTSTAMP:20260421T110426
CREATED:20240916T154345Z
LAST-MODIFIED:20240916T155946Z
UID:31329-1728475200-1728500400@www.archive.octulipfestival.com
SUMMARY:2025 Tulip Court Election
DESCRIPTION:The 2025 Tulip Court Election will take place on Wednesday\, October 9. Voting for the 2025 Tulip Court will take place from 12 to 7 p.m. at Stadscentrum\, located on the corner of Central Avenue and Second Street North in Orange City.  \nEligible voters are adults with an Orange City address and 7th through 12th-grade students at MOC-Floyd Valley\, Orange City Christian School\, and Unity Christian High School. \nThe 2025 Tulip Court will be announced late evening on Wednesday\, October 9. \nThe 2025 court will reign over the Tulip Festival on May 15\, 16\, and 17\, 2025.  \nCandidate eligibility and general questions can be directed to the Tulip Festival office at 712-707-4510. \nOnline voting will be available again this year. You learn more and sign up HERE
URL:https://www.archive.octulipfestival.com/event/2025-tulip-court-election/
LOCATION:Stadscentrum\, 207 Central Avenue NE\, Orange City\, 51041\, United States
ATTACH;FMTTYPE=image/png:https://www.archive.octulipfestival.com/wp-content/uploads/2019/10/cropped-octulip-favicon-2019-512x512.png
END:VEVENT
END:VCALENDAR