BEGIN:VCALENDAR
VERSION:2.0
PRODID:-//Orange City Tulip Festival - ECPv6.0.8//NONSGML v1.0//EN
CALSCALE:GREGORIAN
METHOD:PUBLISH
X-WR-CALNAME:Orange City Tulip Festival
X-ORIGINAL-URL:https://www.archive.octulipfestival.com
X-WR-CALDESC:Events for Orange City Tulip Festival
REFRESH-INTERVAL;VALUE=DURATION:PT1H
X-Robots-Tag:noindex
X-PUBLISHED-TTL:PT1H
BEGIN:VTIMEZONE
TZID:America/Chicago
BEGIN:DAYLIGHT
TZOFFSETFROM:-0600
TZOFFSETTO:-0500
TZNAME:CDT
DTSTART:20240310T080000
END:DAYLIGHT
BEGIN:STANDARD
TZOFFSETFROM:-0500
TZOFFSETTO:-0600
TZNAME:CST
DTSTART:20241103T070000
END:STANDARD
END:VTIMEZONE
BEGIN:VEVENT
DTSTART;TZID=America/Chicago:20240109T190000
DTEND;TZID=America/Chicago:20240109T210000
DTSTAMP:20260422T014317
CREATED:20230901T160736Z
LAST-MODIFIED:20240108T192812Z
UID:28929-1704826800-1704834000@www.archive.octulipfestival.com
SUMMARY:2024 Night Show Auditions
DESCRIPTION:The Tulip Festival Steering Committee has announced the annual Night Show musical production for the 83rd annual Tulip Festival\, as Footloose! FOOTLOOSE is presented by arrangement with Concord Theatricals. www.concordtheatricals.com \nAuditions for Footloose will be held in Town Hall in downtown Orange City on January 9\, 11 and 12\, 2024 for those who are 16 years and older. A variety of ages are encouraged to audition. Directing this year’s show will be Drew and Amanda Lemke and Susan Henrich will serve as producer.
URL:https://www.archive.octulipfestival.com/event/2024-night-show-auditions-2/
LOCATION:Town Hall\, 125 Central Ave SE\, Orange City\, IA\, 51041\, United States
ATTACH;FMTTYPE=image/png:https://www.archive.octulipfestival.com/wp-content/uploads/2023/05/footloose-social_no-oc-01.png
END:VEVENT
BEGIN:VEVENT
DTSTART;TZID=America/Chicago:20240111T190000
DTEND;TZID=America/Chicago:20240111T210000
DTSTAMP:20260422T014317
CREATED:20230901T160826Z
LAST-MODIFIED:20240108T192842Z
UID:28931-1704999600-1705006800@www.archive.octulipfestival.com
SUMMARY:2024 Night Show Auditions
DESCRIPTION:The Tulip Festival Steering Committee has announced the annual Night Show musical production for the 83rd annual Tulip Festival\, as Footloose! FOOTLOOSE is presented by arrangement with Concord Theatricals. www.concordtheatricals.com \nAuditions for Footloose will be held in Town Hall downtown Orange City on January 9\, 11 and 12\, 2024 for those who are 16 years and older. A variety of ages are encouraged to audition. Directing this year’s show will be Drew and Amanda Lemke and Susan Henrich will serve as producer.
URL:https://www.archive.octulipfestival.com/event/2024-night-show-auditions-3/
LOCATION:Town Hall\, 125 Central Ave SE\, Orange City\, IA\, 51041\, United States
ATTACH;FMTTYPE=image/png:https://www.archive.octulipfestival.com/wp-content/uploads/2023/05/footloose-social_no-oc-01.png
END:VEVENT
BEGIN:VEVENT
DTSTART;TZID=America/Chicago:20240112T190000
DTEND;TZID=America/Chicago:20240112T210000
DTSTAMP:20260422T014317
CREATED:20230901T160614Z
LAST-MODIFIED:20240108T192731Z
UID:28927-1705086000-1705093200@www.archive.octulipfestival.com
SUMMARY:2024 Night Show Auditions
DESCRIPTION:The Tulip Festival Steering Committee has announced the annual Night Show musical production for the 83rd annual Tulip Festival\, as Footloose! FOOTLOOSE is presented by arrangement with Concord Theatricals. www.concordtheatricals.com \nAuditions for Footloose will be held in Town Hall downtown Orange City on January 9\, 11 and 12\, 2024 for those who are 16 years and older. A variety of ages are encouraged to audition. Directing this year’s show will be Drew and Amanda Lemke and Susan Henrich will serve as producer.
URL:https://www.archive.octulipfestival.com/event/2024-night-show-auditions/
LOCATION:Town Hall\, 125 Central Ave SE\, Orange City\, IA\, 51041\, United States
ATTACH;FMTTYPE=image/png:https://www.archive.octulipfestival.com/wp-content/uploads/2023/05/footloose-social_no-oc-01.png
END:VEVENT
BEGIN:VEVENT
DTSTART;TZID=America/Chicago:20240115T080000
DTEND;TZID=America/Chicago:20240115T170000
DTSTAMP:20260422T014317
CREATED:20240111T210424Z
LAST-MODIFIED:20240111T210424Z
UID:29316-1705305600-1705338000@www.archive.octulipfestival.com
SUMMARY:Tulip Festival Ticket Sales
DESCRIPTION:Regular ticket sales for 2024 Tulip Festival Events & the Night Show\, Footloose\, will begin on Monday\, January 15\, 2024. Tickets are available for $30-45 each. \nTickets will be available at the Orange City Chamber Office starting at 8:00 a.m. that day. An option to buy online is also available and can be purchased here: ONLINE TICKETS (octulipfestival.com/tickets). \nJoin us for this live production\, May 13-18 at the Town Hall\, in Orange City\, Iowa. The show will be at 6:30 pm on May 13-14 and at 8:00 pm on May 15-18. \nFOOTLOOSE is presented by arrangement with Concord Theatricals. www.concordtheatricals.com
URL:https://www.archive.octulipfestival.com/event/tulip-festival-ticket-sales/
LOCATION:Tulip Festival Office\, 509 8th Street SE\, Orange City\, 51041\, United States
ATTACH;FMTTYPE=image/jpeg:https://www.archive.octulipfestival.com/wp-content/uploads/2013/03/Tulip-Feature-tickets-495x400.jpg
END:VEVENT
END:VCALENDAR