BEGIN:VCALENDAR
VERSION:2.0
PRODID:-//Orange City Tulip Festival - ECPv6.0.8//NONSGML v1.0//EN
CALSCALE:GREGORIAN
METHOD:PUBLISH
X-WR-CALNAME:Orange City Tulip Festival
X-ORIGINAL-URL:https://www.archive.octulipfestival.com
X-WR-CALDESC:Events for Orange City Tulip Festival
REFRESH-INTERVAL;VALUE=DURATION:PT1H
X-Robots-Tag:noindex
X-PUBLISHED-TTL:PT1H
BEGIN:VTIMEZONE
TZID:UTC
BEGIN:STANDARD
TZOFFSETFROM:+0000
TZOFFSETTO:+0000
TZNAME:UTC
DTSTART:20160101T000000
END:STANDARD
END:VTIMEZONE
BEGIN:VEVENT
DTSTART;TZID=UTC:20160112T183000
DTEND;TZID=UTC:20160112T213000
DTSTAMP:20260422T170943
CREATED:20151211T011312Z
LAST-MODIFIED:20160205T183156Z
UID:3119-1452623400-1452634200@www.archive.octulipfestival.com
SUMMARY:Night Show Auditions
DESCRIPTION:Auditions for the 2016 Tulip Festival Night Show\, “West Side Story\,” are scheduled for three dates in January. Individuals age 16 and older are invited to audition. \nAuditions for the Night Show will take place on Jan. 12 and 14\, 2016\, from 6:30 to 9:30 p.m. and on Jan. 16\, 2016\, from 9 a.m. to noon. All auditions will take place at the Orange City Town Hall. Those wishing to try out do not need to prepare any material prior to the auditions\, but are asked to bring their schedules from February through May. \nThe cast of “West Side Story” will consist of 35 to 40 people\, including Tony\, Maria\, Riff\, Bernardo\, Chino\, Anita\, Officer Krupke\, Doc\, members of the Sharks and Jets\, and many more. Non-singing roles are also available in the production. \nTickets for the Night Show will go on sale for $20 each on Monday\, Feb. 1 at 9 a.m. at the Orange City Tulip Festival/Chamber of Commerce office. \n“West Side Story” is based on a conception of Jerome Robbins. Book by Arthur Laurents. Music by Leonard Bernstein. Lyrics by Stephen Sondheim. Entire original production directed and choreographed by Jerome Robbins. Originally produced on Broadway by Robert E. Griffith and Harold S. Prince by arrangement with Roger L. Stevens. \n“West Side Story” is presented through special arrangement with Music Theatre International (MTI). All authorized performance materials are also supplied by MTI. 421 West 54th Street\, New York\, NY 10019. Phone: 212-541-4684. Fax: 212-397-4684. www. MTIShows.com
URL:https://www.archive.octulipfestival.com/event/night-show-auditions/
LOCATION:City Hall\, 125 Central Avenue SE\, Orange City\, 51041
ATTACH;FMTTYPE=image/jpeg:https://www.archive.octulipfestival.com/wp-content/uploads/2015/12/Tulip-Feature-nightshow.jpg
END:VEVENT
END:VCALENDAR