BEGIN:VCALENDAR
VERSION:2.0
PRODID:-//Orange City Tulip Festival - ECPv6.0.8//NONSGML v1.0//EN
CALSCALE:GREGORIAN
METHOD:PUBLISH
X-WR-CALNAME:Orange City Tulip Festival
X-ORIGINAL-URL:https://www.archive.octulipfestival.com
X-WR-CALDESC:Events for Orange City Tulip Festival
REFRESH-INTERVAL;VALUE=DURATION:PT1H
X-Robots-Tag:noindex
X-PUBLISHED-TTL:PT1H
BEGIN:VTIMEZONE
TZID:America/Chicago
BEGIN:DAYLIGHT
TZOFFSETFROM:-0600
TZOFFSETTO:-0500
TZNAME:CDT
DTSTART:20240310T080000
END:DAYLIGHT
BEGIN:STANDARD
TZOFFSETFROM:-0500
TZOFFSETTO:-0600
TZNAME:CST
DTSTART:20241103T070000
END:STANDARD
END:VTIMEZONE
BEGIN:VEVENT
DTSTART;TZID=America/Chicago:20240515T080000
DTEND;TZID=America/Chicago:20240518T230000
DTSTAMP:20260421T213632
CREATED:20230522T151538Z
LAST-MODIFIED:20230522T151538Z
UID:28675-1715760000-1716073200@www.archive.octulipfestival.com
SUMMARY:83rd Orange City Tulip Festival
DESCRIPTION:Join us in 2024 on May 15-18!
URL:https://www.archive.octulipfestival.com/event/83rd-orange-city-tulip-festival/
LOCATION:Orange City\, Iowa\, Orange City\, 51041
ATTACH;FMTTYPE=image/png:https://www.archive.octulipfestival.com/wp-content/uploads/2019/10/cropped-octulip-favicon-2019-512x512.png
END:VEVENT
END:VCALENDAR